BEGIN:VCALENDAR
VERSION:2.0
PRODID:-// - ECPv6.15.20//NONSGML v1.0//EN
CALSCALE:GREGORIAN
METHOD:PUBLISH
X-ORIGINAL-URL:https://www.bieville-beuville.fr
X-WR-CALDESC:Évènements pour 
REFRESH-INTERVAL;VALUE=DURATION:PT1H
X-Robots-Tag:noindex
X-PUBLISHED-TTL:PT1H
BEGIN:VTIMEZONE
TZID:Europe/Paris
BEGIN:DAYLIGHT
TZOFFSETFROM:+0100
TZOFFSETTO:+0200
TZNAME:CEST
DTSTART:20240331T010000
END:DAYLIGHT
BEGIN:STANDARD
TZOFFSETFROM:+0200
TZOFFSETTO:+0100
TZNAME:CET
DTSTART:20241027T010000
END:STANDARD
BEGIN:DAYLIGHT
TZOFFSETFROM:+0100
TZOFFSETTO:+0200
TZNAME:CEST
DTSTART:20250330T010000
END:DAYLIGHT
BEGIN:STANDARD
TZOFFSETFROM:+0200
TZOFFSETTO:+0100
TZNAME:CET
DTSTART:20251026T010000
END:STANDARD
BEGIN:DAYLIGHT
TZOFFSETFROM:+0100
TZOFFSETTO:+0200
TZNAME:CEST
DTSTART:20260329T010000
END:DAYLIGHT
BEGIN:STANDARD
TZOFFSETFROM:+0200
TZOFFSETTO:+0100
TZNAME:CET
DTSTART:20261025T010000
END:STANDARD
END:VTIMEZONE
BEGIN:VEVENT
DTSTART;TZID=Europe/Paris:20250906T143000
DTEND;TZID=Europe/Paris:20250906T153000
DTSTAMP:20260424T174326
CREATED:20250812T085155Z
LAST-MODIFIED:20250812T092406Z
UID:13107-1757169000-1757172600@www.bieville-beuville.fr
SUMMARY:Accueil des Nouveaux Habitants
DESCRIPTION:Samedi 6 septembre 2025 à partir de 14 h 30\, petite salle polyvalente.
URL:https://www.bieville-beuville.fr/event/accueil-des-nouveaux-habitants-2/
LOCATION:Petite salle\, rue de Lympstone\, Biéville-Beuville\, 14112\, France
ATTACH;FMTTYPE=image/png:https://www.bieville-beuville.fr/wp-content/uploads/2025/08/Nouveaux-habitants-.png
END:VEVENT
BEGIN:VEVENT
DTSTART;TZID=Europe/Paris:20250906T150000
DTEND;TZID=Europe/Paris:20250906T183000
DTSTAMP:20260424T174326
CREATED:20250813T085917Z
LAST-MODIFIED:20250813T085923Z
UID:13112-1757170800-1757183400@www.bieville-beuville.fr
SUMMARY:FORUM DES ASSOCIATIONS
DESCRIPTION:Samedi 6 septembre 2025 \nSalle polyvalente et place Margetshöchheim \nA partir de 15 h 00\, toutes vos associations seront présentes pour vous accueillir et vous inviter à découvrir leurs activités et animations\, sportives ou culturelles.\nCe sera l’occasion de vous inscrire directement aux activités de votre choix.
URL:https://www.bieville-beuville.fr/event/forum-des-associations-2/
LOCATION:Salle polyvalente\, 8 Rue de Lympstone\, Biéville-Beuville\, 14112\, France
ATTACH;FMTTYPE=image/jpeg:https://www.bieville-beuville.fr/wp-content/uploads/2025/08/FORUM.jpg
END:VEVENT
BEGIN:VEVENT
DTSTART;VALUE=DATE:20250908
DTEND;VALUE=DATE:20250909
DTSTAMP:20260424T174326
CREATED:20250723T094645Z
LAST-MODIFIED:20250813T093149Z
UID:13063-1757289600-1757375999@www.bieville-beuville.fr
SUMMARY:Prochain conseil municipal
DESCRIPTION:Lundi 8 septembre 2025 à 19 h 00\, salle polyvalente.
URL:https://www.bieville-beuville.fr/event/prochain-conseil-municipal-4/
LOCATION:Mairie\, Rue du Général de Gaulle\, Biéville-Beuville\, 14112\, France
ATTACH;FMTTYPE=image/png:https://www.bieville-beuville.fr/wp-content/uploads/2022/10/ordre-du-jour-conseil-municipal.png
END:VEVENT
BEGIN:VEVENT
DTSTART;TZID=Europe/Paris:20250912T190000
DTEND;TZID=Europe/Paris:20250912T200000
DTSTAMP:20260424T174326
CREATED:20250821T142800Z
LAST-MODIFIED:20250826T122607Z
UID:13129-1757703600-1757707200@www.bieville-beuville.fr
SUMMARY:Projet Rucher
DESCRIPTION:Vous êtes invités à la deuxième réunion sur le projet de création d’un rucher\, vendredi 12 septembre à 19 h 00\, salle 2 du centre multi-activités.
URL:https://www.bieville-beuville.fr/event/projet-rucher/
LOCATION:Centre multi-activités\, Rue Mozart\, Biéville-Beuville\, Sélectionner un État :\, 14112\, France
ATTACH;FMTTYPE=image/jpeg:https://www.bieville-beuville.fr/wp-content/uploads/2025/08/Rucher.jpg
END:VEVENT
BEGIN:VEVENT
DTSTART;TZID=Europe/Paris:20250913T093000
DTEND;TZID=Europe/Paris:20250913T120000
DTSTAMP:20260424T174326
CREATED:20250826T125828Z
LAST-MODIFIED:20250826T125835Z
UID:13141-1757755800-1757764800@www.bieville-beuville.fr
SUMMARY:Collecte éphémère
DESCRIPTION:Samedi 13 septembre\, de 9 h 30 à 12 h 00\, nous vous offrons la possibilité de vous débarrasser de vos objets encombrants en participant à la collecte organisée par Caen la mer\, place Margetshöchheim\, parking devant la salle polyvalente.Seront collectés :• Les DEEE – Déchets d’Équipements Électriques et Électroniques (tout objet fonctionnant avec des piles\, batteries ou sur secteur : téléviseurs\, réfrigérateurs\, aspirateurs\, sèche-cheveux\, téléphones portables\, matériel informatique\,..). Ces déchets DEEE ne figurent pas dans la liste des encombrants collectés par Caen la mer. • Les DEA – Déchets d’Équipements d’Ameublement (armoires\, chaises\, tables\, canapés\, sommiers\, matelas\, étagères\,…).Plus d’infos sur les dates de collectes déchets ménagers\, verts et encombrants en consultant les calendriers distribués par Caen la mer pour la période du 1er avril 2025 au 31 mars 2026.
URL:https://www.bieville-beuville.fr/event/collecte-ephemere/
LOCATION:Place Margetshöchheim\, Biéville-Beuville\, 14112
ATTACH;FMTTYPE=application/pdf:https://www.bieville-beuville.fr/wp-content/uploads/2025/08/AFFICHE-COLLECTE-BIEVILLE-2025.pdf
END:VEVENT
END:VCALENDAR