BEGIN:VCALENDAR
VERSION:2.0
PRODID:-// - ECPv6.15.20//NONSGML v1.0//EN
CALSCALE:GREGORIAN
METHOD:PUBLISH
X-ORIGINAL-URL:https://www.bieville-beuville.fr
X-WR-CALDESC:Évènements pour 
REFRESH-INTERVAL;VALUE=DURATION:PT1H
X-Robots-Tag:noindex
X-PUBLISHED-TTL:PT1H
BEGIN:VTIMEZONE
TZID:Europe/Paris
BEGIN:DAYLIGHT
TZOFFSETFROM:+0100
TZOFFSETTO:+0200
TZNAME:CEST
DTSTART:20250330T010000
END:DAYLIGHT
BEGIN:STANDARD
TZOFFSETFROM:+0200
TZOFFSETTO:+0100
TZNAME:CET
DTSTART:20251026T010000
END:STANDARD
BEGIN:DAYLIGHT
TZOFFSETFROM:+0100
TZOFFSETTO:+0200
TZNAME:CEST
DTSTART:20260329T010000
END:DAYLIGHT
BEGIN:STANDARD
TZOFFSETFROM:+0200
TZOFFSETTO:+0100
TZNAME:CET
DTSTART:20261025T010000
END:STANDARD
BEGIN:DAYLIGHT
TZOFFSETFROM:+0100
TZOFFSETTO:+0200
TZNAME:CEST
DTSTART:20270328T010000
END:DAYLIGHT
BEGIN:STANDARD
TZOFFSETFROM:+0200
TZOFFSETTO:+0100
TZNAME:CET
DTSTART:20271031T010000
END:STANDARD
END:VTIMEZONE
BEGIN:VEVENT
DTSTART;VALUE=DATE:20260324
DTEND;VALUE=DATE:20261118
DTSTAMP:20260422T125931
CREATED:20251117T141523Z
LAST-MODIFIED:20260323T135905Z
UID:13405-1774310400-1794959999@www.bieville-beuville.fr
SUMMARY:Inscription scolaire 2025 - 2026
DESCRIPTION:Il est toujours possible de procéder à l’inscription de votre enfant pour l’année scolaire 2025-2026. \nL’inscription se fait en Mairie et l’admission à l’école. \nRenseignement par mail ce.0141367k@ac-normandie.fr ou par téléphone : 06 73 38 91 37 \n 
URL:https://www.bieville-beuville.fr/event/inscription-scolaire-2025-2026/
LOCATION:Mairie\, Rue du Général de Gaulle\, Biéville-Beuville\, 14112\, France
ATTACH;FMTTYPE=image/jpeg:https://www.bieville-beuville.fr/wp-content/uploads/2025/11/Inscription-scolaire.jpg
END:VEVENT
BEGIN:VEVENT
DTSTART;TZID=Europe/Paris:20260410T080000
DTEND;TZID=Europe/Paris:20260419T090000
DTSTAMP:20260422T125931
CREATED:20260410T130236Z
LAST-MODIFIED:20260410T132148Z
UID:14168-1775808000-1776589200@www.bieville-beuville.fr
SUMMARY:Comité des Fêtes - Soirée à thème.
DESCRIPTION:Chers habitants\, \nLe comité des fêtes vous propose le samedi 18 avril 2026\, une soirée Sénégalaise à partir de 19h30 avec un diner dansant animé par l’orchestre « LAURENZA ». \n📍 Lieu : Salle polyvalente. \n🎟 Tarifs : Adulte 23€ ; Enfants 13€. \nDes flyers d’inscription ont été déposés dans votre boite aux lettres \nInformations : 06 70 45 97 52 \ncomite.fetes.b.b.14@gmail.fr \n📢 Partagez l’évènement !
URL:https://www.bieville-beuville.fr/event/comite-des-fetes-soiree-a-theme/
LOCATION:Salle polyvalente\, 8 Rue de Lympstone\, Biéville-Beuville\, 14112\, France
ATTACH;FMTTYPE=application/pdf:https://www.bieville-beuville.fr/wp-content/uploads/2026/04/Affiche-SOIREE-SENEGALAISE-Cte-fetes-v1.pdf
END:VEVENT
BEGIN:VEVENT
DTSTART;TZID=Europe/Paris:20260413T080000
DTEND;TZID=Europe/Paris:20260417T233000
DTSTAMP:20260422T125931
CREATED:20260413T081050Z
LAST-MODIFIED:20260413T081050Z
UID:14174-1776067200-1776468600@www.bieville-beuville.fr
SUMMARY:Modification des horaires : Bibliothèque.
DESCRIPTION:⚠️ Modification exceptionnelle des horaires d’ouverture ⚠️ \nCher(e)s administré(e)s\, \nPour les après-midis du lundi 13\, mardi 14 et vendredi 17 avril 2026\, la médiathèque communale accueillera le public de 15h30 à 18h (au lieu des horaires habituels). \nMerci de votre compréhension !
URL:https://www.bieville-beuville.fr/event/modification-des-horaires-bibliotheque/
LOCATION:Centre multi-activités\, Rue Mozart\, Biéville-Beuville\, Sélectionner un État :\, 14112\, France
ATTACH;FMTTYPE=image/png:https://www.bieville-beuville.fr/wp-content/uploads/2026/04/mediatheque.png
END:VEVENT
END:VCALENDAR