BEGIN:VCALENDAR
VERSION:2.0
PRODID:-// - ECPv6.15.20//NONSGML v1.0//EN
CALSCALE:GREGORIAN
METHOD:PUBLISH
X-ORIGINAL-URL:https://www.bieville-beuville.fr
X-WR-CALDESC:Évènements pour 
REFRESH-INTERVAL;VALUE=DURATION:PT1H
X-Robots-Tag:noindex
X-PUBLISHED-TTL:PT1H
BEGIN:VTIMEZONE
TZID:Europe/Paris
BEGIN:DAYLIGHT
TZOFFSETFROM:+0100
TZOFFSETTO:+0200
TZNAME:CEST
DTSTART:20250330T010000
END:DAYLIGHT
BEGIN:STANDARD
TZOFFSETFROM:+0200
TZOFFSETTO:+0100
TZNAME:CET
DTSTART:20251026T010000
END:STANDARD
BEGIN:DAYLIGHT
TZOFFSETFROM:+0100
TZOFFSETTO:+0200
TZNAME:CEST
DTSTART:20260329T010000
END:DAYLIGHT
BEGIN:STANDARD
TZOFFSETFROM:+0200
TZOFFSETTO:+0100
TZNAME:CET
DTSTART:20261025T010000
END:STANDARD
BEGIN:DAYLIGHT
TZOFFSETFROM:+0100
TZOFFSETTO:+0200
TZNAME:CEST
DTSTART:20270328T010000
END:DAYLIGHT
BEGIN:STANDARD
TZOFFSETFROM:+0200
TZOFFSETTO:+0100
TZNAME:CET
DTSTART:20271031T010000
END:STANDARD
END:VTIMEZONE
BEGIN:VEVENT
DTSTART;VALUE=DATE:20260324
DTEND;VALUE=DATE:20261118
DTSTAMP:20260422T132707
CREATED:20251117T141523Z
LAST-MODIFIED:20260323T135905Z
UID:13405-1774310400-1794959999@www.bieville-beuville.fr
SUMMARY:Inscription scolaire 2025 - 2026
DESCRIPTION:Il est toujours possible de procéder à l’inscription de votre enfant pour l’année scolaire 2025-2026. \nL’inscription se fait en Mairie et l’admission à l’école. \nRenseignement par mail ce.0141367k@ac-normandie.fr ou par téléphone : 06 73 38 91 37 \n 
URL:https://www.bieville-beuville.fr/event/inscription-scolaire-2025-2026/
LOCATION:Mairie\, Rue du Général de Gaulle\, Biéville-Beuville\, 14112\, France
ATTACH;FMTTYPE=image/jpeg:https://www.bieville-beuville.fr/wp-content/uploads/2025/11/Inscription-scolaire.jpg
END:VEVENT
BEGIN:VEVENT
DTSTART;TZID=Europe/Paris:20260407T080000
DTEND;TZID=Europe/Paris:20260412T200000
DTSTAMP:20260422T132707
CREATED:20260407T141759Z
LAST-MODIFIED:20260410T125307Z
UID:14139-1775548800-1776024000@www.bieville-beuville.fr
SUMMARY:Exposition "Arts et Passions"
DESCRIPTION:🌟 EXPOSITION ARTS ET PASSIONS : 🌟 \nChers habitants\, \nLe comité des fêtes vous propose l’exposition « arts et passions » qui vous permettra de découvrir les artistes amateurs et passionnés de notre commune.\n\n📅 Date -⏰ Horaire : Le samedi 11/04/2026 de 14h00 à 19h00.\nLe dimanche 12/04/2026 de 10h à 12h30 et de 14h à 18h. \n📍 Lieu : Salle polyvalente. \n🎟 Entrée Gratuite. \n📢 Partagez l’évènement ! 
URL:https://www.bieville-beuville.fr/event/exposition-arts-et-passions/
LOCATION:Salle polyvalente\, 8 Rue de Lympstone\, Biéville-Beuville\, 14112\, France
ATTACH;FMTTYPE=application/pdf:https://www.bieville-beuville.fr/wp-content/uploads/2026/04/ARTS-PASSIONS-2026.pdf
END:VEVENT
END:VCALENDAR