BEGIN:VCALENDAR
VERSION:2.0
PRODID:-// - ECPv6.15.20//NONSGML v1.0//EN
CALSCALE:GREGORIAN
METHOD:PUBLISH
X-ORIGINAL-URL:https://www.bieville-beuville.fr
X-WR-CALDESC:Évènements pour 
REFRESH-INTERVAL;VALUE=DURATION:PT1H
X-Robots-Tag:noindex
X-PUBLISHED-TTL:PT1H
BEGIN:VTIMEZONE
TZID:Europe/Paris
BEGIN:DAYLIGHT
TZOFFSETFROM:+0100
TZOFFSETTO:+0200
TZNAME:CEST
DTSTART:20250330T010000
END:DAYLIGHT
BEGIN:STANDARD
TZOFFSETFROM:+0200
TZOFFSETTO:+0100
TZNAME:CET
DTSTART:20251026T010000
END:STANDARD
BEGIN:DAYLIGHT
TZOFFSETFROM:+0100
TZOFFSETTO:+0200
TZNAME:CEST
DTSTART:20260329T010000
END:DAYLIGHT
BEGIN:STANDARD
TZOFFSETFROM:+0200
TZOFFSETTO:+0100
TZNAME:CET
DTSTART:20261025T010000
END:STANDARD
BEGIN:DAYLIGHT
TZOFFSETFROM:+0100
TZOFFSETTO:+0200
TZNAME:CEST
DTSTART:20270328T010000
END:DAYLIGHT
BEGIN:STANDARD
TZOFFSETFROM:+0200
TZOFFSETTO:+0100
TZNAME:CET
DTSTART:20271031T010000
END:STANDARD
END:VTIMEZONE
BEGIN:VEVENT
DTSTART;VALUE=DATE:20260314
DTEND;VALUE=DATE:20260315
DTSTAMP:20260422T151001
CREATED:20260113T135608Z
LAST-MODIFIED:20260223T103106Z
UID:13577-1773446400-1773532799@www.bieville-beuville.fr
SUMMARY:CARNAVAL ÉDITION 2026
DESCRIPTION:Une folie joyeuse nous prendra samedi 14 mars 2026 ! Cette année\, le carnaval va faire tourner les têtes et éclater les zygomatiques ! on veut des éclats de rires\, des couleurs à gogo\, des idées farfelues\, des clins d’œil humoristiques pour un carnaval plus déjanté que jamais !\nTous les FOUS\, petits et grands\, sont invités à rejoindre la fanfare « Les Fêlés de la Caisse » pour ce Carnaval FOU\, FOU\, FOU ! Plus d’infos dans le flash infos de février.
URL:https://www.bieville-beuville.fr/event/carnaval-edition-2026/
LOCATION:BIEVILLE-BEUVILLE\, BIEVILLE-BEUVILLE\, 14112\, France
ATTACH;FMTTYPE=image/jpeg:https://www.bieville-beuville.fr/wp-content/uploads/2026/01/Carnaval-2026-1.jpg
END:VEVENT
END:VCALENDAR