BEGIN:VCALENDAR
VERSION:2.0
PRODID:-// - ECPv6.15.20//NONSGML v1.0//EN
CALSCALE:GREGORIAN
METHOD:PUBLISH
X-ORIGINAL-URL:https://www.bieville-beuville.fr
X-WR-CALDESC:Évènements pour 
REFRESH-INTERVAL;VALUE=DURATION:PT1H
X-Robots-Tag:noindex
X-PUBLISHED-TTL:PT1H
BEGIN:VTIMEZONE
TZID:Europe/Paris
BEGIN:DAYLIGHT
TZOFFSETFROM:+0100
TZOFFSETTO:+0200
TZNAME:CEST
DTSTART:20250330T010000
END:DAYLIGHT
BEGIN:STANDARD
TZOFFSETFROM:+0200
TZOFFSETTO:+0100
TZNAME:CET
DTSTART:20251026T010000
END:STANDARD
BEGIN:DAYLIGHT
TZOFFSETFROM:+0100
TZOFFSETTO:+0200
TZNAME:CEST
DTSTART:20260329T010000
END:DAYLIGHT
BEGIN:STANDARD
TZOFFSETFROM:+0200
TZOFFSETTO:+0100
TZNAME:CET
DTSTART:20261025T010000
END:STANDARD
BEGIN:DAYLIGHT
TZOFFSETFROM:+0100
TZOFFSETTO:+0200
TZNAME:CEST
DTSTART:20270328T010000
END:DAYLIGHT
BEGIN:STANDARD
TZOFFSETFROM:+0200
TZOFFSETTO:+0100
TZNAME:CET
DTSTART:20271031T010000
END:STANDARD
END:VTIMEZONE
BEGIN:VEVENT
DTSTART;TZID=Europe/Paris:20260307T090000
DTEND;TZID=Europe/Paris:20260307T120000
DTSTAMP:20260422T151011
CREATED:20260303T095612Z
LAST-MODIFIED:20260303T095612Z
UID:13775-1772874000-1772884800@www.bieville-beuville.fr
SUMMARY:Rappel distribution de compost
DESCRIPTION:Samedi 7 mars de 9 h 00 à 12 h 00\, aux ateliers municipaux\, rue des Deux Pierres\, des sacs de 20 litres de compost seront remis aux habitants. \nCette distribution est gratuite sur inscription préalable en Mairie.
URL:https://www.bieville-beuville.fr/event/rappel-distribution-de-compost/
LOCATION:Rue des deux pierres 14112 Biéville-Beuville\, Rue des Deux Pierres\, Biéville-Beuville\, 14112
ATTACH;FMTTYPE=image/jpeg:https://www.bieville-beuville.fr/wp-content/uploads/2026/02/Compost.jpg
END:VEVENT
END:VCALENDAR