BEGIN:VCALENDAR
VERSION:2.0
PRODID:-// - ECPv6.15.20//NONSGML v1.0//EN
CALSCALE:GREGORIAN
METHOD:PUBLISH
X-ORIGINAL-URL:https://www.bieville-beuville.fr
X-WR-CALDESC:Évènements pour 
REFRESH-INTERVAL;VALUE=DURATION:PT1H
X-Robots-Tag:noindex
X-PUBLISHED-TTL:PT1H
BEGIN:VTIMEZONE
TZID:Europe/Paris
BEGIN:DAYLIGHT
TZOFFSETFROM:+0100
TZOFFSETTO:+0200
TZNAME:CEST
DTSTART:20240331T010000
END:DAYLIGHT
BEGIN:STANDARD
TZOFFSETFROM:+0200
TZOFFSETTO:+0100
TZNAME:CET
DTSTART:20241027T010000
END:STANDARD
BEGIN:DAYLIGHT
TZOFFSETFROM:+0100
TZOFFSETTO:+0200
TZNAME:CEST
DTSTART:20250330T010000
END:DAYLIGHT
BEGIN:STANDARD
TZOFFSETFROM:+0200
TZOFFSETTO:+0100
TZNAME:CET
DTSTART:20251026T010000
END:STANDARD
BEGIN:DAYLIGHT
TZOFFSETFROM:+0100
TZOFFSETTO:+0200
TZNAME:CEST
DTSTART:20260329T010000
END:DAYLIGHT
BEGIN:STANDARD
TZOFFSETFROM:+0200
TZOFFSETTO:+0100
TZNAME:CET
DTSTART:20261025T010000
END:STANDARD
END:VTIMEZONE
BEGIN:VEVENT
DTSTART;VALUE=DATE:20251207
DTEND;VALUE=DATE:20251208
DTSTAMP:20260422T202629
CREATED:20251113T151404Z
LAST-MODIFIED:20251122T140021Z
UID:13398-1765065600-1765151999@www.bieville-beuville.fr
SUMMARY:NOËL DES ENFANTS
DESCRIPTION:Spectacle et goûter de Noël \nDimanche 7 décembre\, tous les enfants de la commune sont invités à rencontrer le Père Noël à l’issue d’un spectacle et d’un goûter. \nLe matin\, dès 10 h 15\, nous recevrons les petits de O à la maternelle. L’après- midi\, à partir de 14 h 15\, nous accueillerons les plus grands du CP au CM2.
URL:https://www.bieville-beuville.fr/event/noel-des-enfants-2/
LOCATION:Salle polyvalente\, 8 Rue de Lympstone\, Biéville-Beuville\, 14112\, France
ATTACH;FMTTYPE=application/pdf:https://www.bieville-beuville.fr/wp-content/uploads/2025/11/Affiche-Noel-des-enfants-2025.pdf
END:VEVENT
END:VCALENDAR