BEGIN:VCALENDAR
VERSION:2.0
PRODID:-// - ECPv6.15.20//NONSGML v1.0//EN
CALSCALE:GREGORIAN
METHOD:PUBLISH
X-ORIGINAL-URL:https://www.bieville-beuville.fr
X-WR-CALDESC:Évènements pour 
REFRESH-INTERVAL;VALUE=DURATION:PT1H
X-Robots-Tag:noindex
X-PUBLISHED-TTL:PT1H
BEGIN:VTIMEZONE
TZID:Europe/Paris
BEGIN:DAYLIGHT
TZOFFSETFROM:+0100
TZOFFSETTO:+0200
TZNAME:CEST
DTSTART:20240331T010000
END:DAYLIGHT
BEGIN:STANDARD
TZOFFSETFROM:+0200
TZOFFSETTO:+0100
TZNAME:CET
DTSTART:20241027T010000
END:STANDARD
BEGIN:DAYLIGHT
TZOFFSETFROM:+0100
TZOFFSETTO:+0200
TZNAME:CEST
DTSTART:20250330T010000
END:DAYLIGHT
BEGIN:STANDARD
TZOFFSETFROM:+0200
TZOFFSETTO:+0100
TZNAME:CET
DTSTART:20251026T010000
END:STANDARD
BEGIN:DAYLIGHT
TZOFFSETFROM:+0100
TZOFFSETTO:+0200
TZNAME:CEST
DTSTART:20260329T010000
END:DAYLIGHT
BEGIN:STANDARD
TZOFFSETFROM:+0200
TZOFFSETTO:+0100
TZNAME:CET
DTSTART:20261025T010000
END:STANDARD
END:VTIMEZONE
BEGIN:VEVENT
DTSTART;TZID=Europe/Paris:20250626T160000
DTEND;TZID=Europe/Paris:20250626T190000
DTSTAMP:20260423T183336
CREATED:20250612T135436Z
LAST-MODIFIED:20250613T124431Z
UID:12875-1750953600-1750964400@www.bieville-beuville.fr
SUMMARY:TWISTO
DESCRIPTION:L’Agence mobile TWISTO sera présente dans notre commune le jeudi 26 juin de 16 h à 19 h\, place Margetshöchheim\, devant la salle polyvalente\, afin de faciliter vos démarches administratives pour la rentrée.
URL:https://www.bieville-beuville.fr/event/twisto/
LOCATION:Place Margetshöchheim\, Biéville-Beuville\, 14112
ATTACH;FMTTYPE=image/jpeg:https://www.bieville-beuville.fr/wp-content/uploads/2025/06/twisto.jpg
END:VEVENT
END:VCALENDAR