BEGIN:VCALENDAR
VERSION:2.0
PRODID:-// - ECPv6.15.20//NONSGML v1.0//EN
CALSCALE:GREGORIAN
METHOD:PUBLISH
X-ORIGINAL-URL:https://www.bieville-beuville.fr
X-WR-CALDESC:Évènements pour 
REFRESH-INTERVAL;VALUE=DURATION:PT1H
X-Robots-Tag:noindex
X-PUBLISHED-TTL:PT1H
BEGIN:VTIMEZONE
TZID:Europe/Paris
BEGIN:DAYLIGHT
TZOFFSETFROM:+0100
TZOFFSETTO:+0200
TZNAME:CEST
DTSTART:20240331T010000
END:DAYLIGHT
BEGIN:STANDARD
TZOFFSETFROM:+0200
TZOFFSETTO:+0100
TZNAME:CET
DTSTART:20241027T010000
END:STANDARD
BEGIN:DAYLIGHT
TZOFFSETFROM:+0100
TZOFFSETTO:+0200
TZNAME:CEST
DTSTART:20250330T010000
END:DAYLIGHT
BEGIN:STANDARD
TZOFFSETFROM:+0200
TZOFFSETTO:+0100
TZNAME:CET
DTSTART:20251026T010000
END:STANDARD
BEGIN:DAYLIGHT
TZOFFSETFROM:+0100
TZOFFSETTO:+0200
TZNAME:CEST
DTSTART:20260329T010000
END:DAYLIGHT
BEGIN:STANDARD
TZOFFSETFROM:+0200
TZOFFSETTO:+0100
TZNAME:CET
DTSTART:20261025T010000
END:STANDARD
END:VTIMEZONE
BEGIN:VEVENT
DTSTART;VALUE=DATE:20251011
DTEND;VALUE=DATE:20251012
DTSTAMP:20260423T033803
CREATED:20250918T093027Z
LAST-MODIFIED:20251003T122839Z
UID:13208-1760140800-1760227199@www.bieville-beuville.fr
SUMMARY:Octobre Rose 2025
DESCRIPTION:Samedi 11 octobre\, marche organisée dans le cadre d’Octobre ROSE 2025. Pré-inscription en mairie au 02 31 53 11 56 et rendez-vous à 14 h 00\, place Margetshöchheim pour enregistrer vos dons en échange d’un maillot offert par la Ligue contre le cancer. Départ de la marche vers 14 h 30. Nous vous attendons nombreuses et nombreux ! un goûter vous attend à l’arrivée lors de la remise du chèque. \nIl sera interdit de stationner le samedi 11 octobre de 12h à 18h devant la salle polyvalente\, place Margetshöchheim : Arrêté municipal 8/3 – 94/2025 \n \n 
URL:https://www.bieville-beuville.fr/event/octobre-rose-2025-4eme-edition/
LOCATION:Place Margetshöchheim\, Biéville-Beuville\, 14112
ATTACH;FMTTYPE=image/png:https://www.bieville-beuville.fr/wp-content/uploads/2025/09/3-Copie.png
END:VEVENT
END:VCALENDAR