BEGIN:VCALENDAR
VERSION:2.0
PRODID:-// - ECPv6.15.20//NONSGML v1.0//EN
CALSCALE:GREGORIAN
METHOD:PUBLISH
X-ORIGINAL-URL:https://www.bieville-beuville.fr
X-WR-CALDESC:Évènements pour 
REFRESH-INTERVAL;VALUE=DURATION:PT1H
X-Robots-Tag:noindex
X-PUBLISHED-TTL:PT1H
BEGIN:VTIMEZONE
TZID:Europe/Paris
BEGIN:DAYLIGHT
TZOFFSETFROM:+0100
TZOFFSETTO:+0200
TZNAME:CEST
DTSTART:20240331T010000
END:DAYLIGHT
BEGIN:STANDARD
TZOFFSETFROM:+0200
TZOFFSETTO:+0100
TZNAME:CET
DTSTART:20241027T010000
END:STANDARD
BEGIN:DAYLIGHT
TZOFFSETFROM:+0100
TZOFFSETTO:+0200
TZNAME:CEST
DTSTART:20250330T010000
END:DAYLIGHT
BEGIN:STANDARD
TZOFFSETFROM:+0200
TZOFFSETTO:+0100
TZNAME:CET
DTSTART:20251026T010000
END:STANDARD
BEGIN:DAYLIGHT
TZOFFSETFROM:+0100
TZOFFSETTO:+0200
TZNAME:CEST
DTSTART:20260329T010000
END:DAYLIGHT
BEGIN:STANDARD
TZOFFSETFROM:+0200
TZOFFSETTO:+0100
TZNAME:CET
DTSTART:20261025T010000
END:STANDARD
END:VTIMEZONE
BEGIN:VEVENT
DTSTART;VALUE=DATE:20250508
DTEND;VALUE=DATE:20250509
DTSTAMP:20260424T093754
CREATED:20250506T074742Z
LAST-MODIFIED:20250506T074748Z
UID:12697-1746662400-1746748799@www.bieville-beuville.fr
SUMMARY:Les randonnées pour la paix
DESCRIPTION:Jeudi 8 mai 2025\, les Randonnées pour la Paix traverseront notre commune pour converger vers la vallée du Mémorial de Caen\, à l’occasion du 80ème anniversaire de la libération. Par solidarité avec les peuples qui\, en 2025\, subissent les conséquences des conflits actuels\, elles seront au profit d’Handicap International. Programme détaillé et inscriptions sur www.randonneespourlapaix.fr
URL:https://www.bieville-beuville.fr/event/les-randonnees-pour-la-paix/
ATTACH;FMTTYPE=image/jpeg:https://www.bieville-beuville.fr/wp-content/uploads/2025/05/Randonnees-pour-la-paix.jpg
END:VEVENT
END:VCALENDAR