BEGIN:VCALENDAR
VERSION:2.0
PRODID:-// - ECPv6.15.20//NONSGML v1.0//EN
CALSCALE:GREGORIAN
METHOD:PUBLISH
X-ORIGINAL-URL:https://www.bieville-beuville.fr
X-WR-CALDESC:Évènements pour 
REFRESH-INTERVAL;VALUE=DURATION:PT1H
X-Robots-Tag:noindex
X-PUBLISHED-TTL:PT1H
BEGIN:VTIMEZONE
TZID:Europe/Paris
BEGIN:DAYLIGHT
TZOFFSETFROM:+0100
TZOFFSETTO:+0200
TZNAME:CEST
DTSTART:20240331T010000
END:DAYLIGHT
BEGIN:STANDARD
TZOFFSETFROM:+0200
TZOFFSETTO:+0100
TZNAME:CET
DTSTART:20241027T010000
END:STANDARD
BEGIN:DAYLIGHT
TZOFFSETFROM:+0100
TZOFFSETTO:+0200
TZNAME:CEST
DTSTART:20250330T010000
END:DAYLIGHT
BEGIN:STANDARD
TZOFFSETFROM:+0200
TZOFFSETTO:+0100
TZNAME:CET
DTSTART:20251026T010000
END:STANDARD
BEGIN:DAYLIGHT
TZOFFSETFROM:+0100
TZOFFSETTO:+0200
TZNAME:CEST
DTSTART:20260329T010000
END:DAYLIGHT
BEGIN:STANDARD
TZOFFSETFROM:+0200
TZOFFSETTO:+0100
TZNAME:CET
DTSTART:20261025T010000
END:STANDARD
END:VTIMEZONE
BEGIN:VEVENT
DTSTART;VALUE=DATE:20250628
DTEND;VALUE=DATE:20250629
DTSTAMP:20260423T164250
CREATED:20250626T100253Z
LAST-MODIFIED:20250626T100253Z
UID:12944-1751068800-1751155199@www.bieville-beuville.fr
SUMMARY:Kermesse annuelle de l'école
DESCRIPTION:C’est avec grand plaisir que le GPBB vous invite à la kermesse annuelle de l’école\, qui aura lieu samedi 28 juin 2025.\nCet évènement festif et convivial marque la fin d’une année scolaire et constitue un moment fort de partage entre enfants\, familles et l’équipe\nenseignante. Cette année\, encore\, nous vous avons préparé un programme riche en animations et en bonne humeur !\nNe manquez pas nos animations\, avec de nombreux lots à gagner grâce à la générosité de multiples commerçants de Normandie. La réussite de cet\névénement repose sur l’implication de chacun.\nSi vous souhaitez nous aider à tenir un stand\, installer ou ranger\, merci de vous rapprocher d’un membre du GPBB. Toute aide\, même ponctuelle\, est la bienvenue !
URL:https://www.bieville-beuville.fr/event/kermesse-annuelle-de-lecole/
ATTACH;FMTTYPE=image/jpeg:https://www.bieville-beuville.fr/wp-content/uploads/2025/06/Kermesse-ecole.jpg
END:VEVENT
END:VCALENDAR