BEGIN:VCALENDAR
VERSION:2.0
PRODID:-// - ECPv6.15.20//NONSGML v1.0//EN
CALSCALE:GREGORIAN
METHOD:PUBLISH
X-ORIGINAL-URL:https://www.bieville-beuville.fr
X-WR-CALDESC:Évènements pour 
REFRESH-INTERVAL;VALUE=DURATION:PT1H
X-Robots-Tag:noindex
X-PUBLISHED-TTL:PT1H
BEGIN:VTIMEZONE
TZID:Europe/Paris
BEGIN:DAYLIGHT
TZOFFSETFROM:+0100
TZOFFSETTO:+0200
TZNAME:CEST
DTSTART:20240331T010000
END:DAYLIGHT
BEGIN:STANDARD
TZOFFSETFROM:+0200
TZOFFSETTO:+0100
TZNAME:CET
DTSTART:20241027T010000
END:STANDARD
BEGIN:DAYLIGHT
TZOFFSETFROM:+0100
TZOFFSETTO:+0200
TZNAME:CEST
DTSTART:20250330T010000
END:DAYLIGHT
BEGIN:STANDARD
TZOFFSETFROM:+0200
TZOFFSETTO:+0100
TZNAME:CET
DTSTART:20251026T010000
END:STANDARD
BEGIN:DAYLIGHT
TZOFFSETFROM:+0100
TZOFFSETTO:+0200
TZNAME:CEST
DTSTART:20260329T010000
END:DAYLIGHT
BEGIN:STANDARD
TZOFFSETFROM:+0200
TZOFFSETTO:+0100
TZNAME:CET
DTSTART:20261025T010000
END:STANDARD
END:VTIMEZONE
BEGIN:VEVENT
DTSTART;VALUE=DATE:20251111
DTEND;VALUE=DATE:20251112
DTSTAMP:20260422T220751
CREATED:20251103T160829Z
LAST-MODIFIED:20251103T160836Z
UID:13362-1762819200-1762905599@www.bieville-beuville.fr
SUMMARY:Commémorations du 11 novembre
DESCRIPTION:Mardi 11 novembre\, le Maire et le Conseil municipal de Biéville-Beuville vous convient aux cérémonies : \n\n10 h 30 – Moment de prière et de recueillement pour la Paix à l’Eglise Notre-Dame de Biéville\,\n11 h 00 – Cérémonie au Monument aux Morts de Biéville-Beuville\,\n11 h 30 – Cérémonie au Monument aux Morts de Périers-sur-le-Dan\,\n12 h 00 – Cérémonie au Monument aux Morts de Mathieu\, suivie d’un vin d’honneur.
URL:https://www.bieville-beuville.fr/event/commemorations-du-11-novembre/
ATTACH;FMTTYPE=image/jpeg:https://www.bieville-beuville.fr/wp-content/uploads/2025/11/Ceremonies-du-11-novembre.jpg
END:VEVENT
END:VCALENDAR