BEGIN:VCALENDAR
VERSION:2.0
PRODID:-// - ECPv6.15.20//NONSGML v1.0//EN
CALSCALE:GREGORIAN
METHOD:PUBLISH
X-ORIGINAL-URL:https://www.bieville-beuville.fr
X-WR-CALDESC:Évènements pour 
REFRESH-INTERVAL;VALUE=DURATION:PT1H
X-Robots-Tag:noindex
X-PUBLISHED-TTL:PT1H
BEGIN:VTIMEZONE
TZID:Europe/Paris
BEGIN:DAYLIGHT
TZOFFSETFROM:+0100
TZOFFSETTO:+0200
TZNAME:CEST
DTSTART:20240331T010000
END:DAYLIGHT
BEGIN:STANDARD
TZOFFSETFROM:+0200
TZOFFSETTO:+0100
TZNAME:CET
DTSTART:20241027T010000
END:STANDARD
BEGIN:DAYLIGHT
TZOFFSETFROM:+0100
TZOFFSETTO:+0200
TZNAME:CEST
DTSTART:20250330T010000
END:DAYLIGHT
BEGIN:STANDARD
TZOFFSETFROM:+0200
TZOFFSETTO:+0100
TZNAME:CET
DTSTART:20251026T010000
END:STANDARD
BEGIN:DAYLIGHT
TZOFFSETFROM:+0100
TZOFFSETTO:+0200
TZNAME:CEST
DTSTART:20260329T010000
END:DAYLIGHT
BEGIN:STANDARD
TZOFFSETFROM:+0200
TZOFFSETTO:+0100
TZNAME:CET
DTSTART:20261025T010000
END:STANDARD
END:VTIMEZONE
BEGIN:VEVENT
DTSTART;VALUE=DATE:20250606
DTEND;VALUE=DATE:20250607
DTSTAMP:20260424T020057
CREATED:20250527T142852Z
LAST-MODIFIED:20250527T142901Z
UID:12796-1749168000-1749254399@www.bieville-beuville.fr
SUMMARY:Cérémonies du 6 juin
DESCRIPTION:Monsieur le Maire invite la population à se joindre au Conseil municipal et aux Anciens Combattants pour les commémorations du 6 juin :\n• 10 h 15 : Cérémonie en l’honneur des aviateurs anglais\nau cimetière de Biéville\,\n• 10 h 45 : Cérémonie à la stèle du Norfolk\, Route de\nColleville\,\n• 11 h 30 : Cérémonie à la stèle du Suffolk au Château de la Londe.
URL:https://www.bieville-beuville.fr/event/ceremonies-du-6-juin/
LOCATION:Cimetière de Biéville\, Cimetière de Biéville-Beuville\, Biéville-Beuville\, Sélectionner un État :\, 14112\, France
ATTACH;FMTTYPE=image/jpeg:https://www.bieville-beuville.fr/wp-content/uploads/2025/05/6-JUIN.jpg
END:VEVENT
END:VCALENDAR