BEGIN:VCALENDAR
VERSION:2.0
PRODID:-// - ECPv6.15.20//NONSGML v1.0//EN
CALSCALE:GREGORIAN
METHOD:PUBLISH
X-ORIGINAL-URL:https://www.bieville-beuville.fr
X-WR-CALDESC:Évènements pour 
REFRESH-INTERVAL;VALUE=DURATION:PT1H
X-Robots-Tag:noindex
X-PUBLISHED-TTL:PT1H
BEGIN:VTIMEZONE
TZID:Europe/Paris
BEGIN:DAYLIGHT
TZOFFSETFROM:+0100
TZOFFSETTO:+0200
TZNAME:CEST
DTSTART:20240331T010000
END:DAYLIGHT
BEGIN:STANDARD
TZOFFSETFROM:+0200
TZOFFSETTO:+0100
TZNAME:CET
DTSTART:20241027T010000
END:STANDARD
BEGIN:DAYLIGHT
TZOFFSETFROM:+0100
TZOFFSETTO:+0200
TZNAME:CEST
DTSTART:20250330T010000
END:DAYLIGHT
BEGIN:STANDARD
TZOFFSETFROM:+0200
TZOFFSETTO:+0100
TZNAME:CET
DTSTART:20251026T010000
END:STANDARD
BEGIN:DAYLIGHT
TZOFFSETFROM:+0100
TZOFFSETTO:+0200
TZNAME:CEST
DTSTART:20260329T010000
END:DAYLIGHT
BEGIN:STANDARD
TZOFFSETFROM:+0200
TZOFFSETTO:+0100
TZNAME:CET
DTSTART:20261025T010000
END:STANDARD
END:VTIMEZONE
BEGIN:VEVENT
DTSTART;TZID=Europe/Paris:20250906T143000
DTEND;TZID=Europe/Paris:20250906T153000
DTSTAMP:20260423T125627
CREATED:20250812T085155Z
LAST-MODIFIED:20250812T092406Z
UID:13107-1757169000-1757172600@www.bieville-beuville.fr
SUMMARY:Accueil des Nouveaux Habitants
DESCRIPTION:Samedi 6 septembre 2025 à partir de 14 h 30\, petite salle polyvalente.
URL:https://www.bieville-beuville.fr/event/accueil-des-nouveaux-habitants-2/
LOCATION:Petite salle\, rue de Lympstone\, Biéville-Beuville\, 14112\, France
ATTACH;FMTTYPE=image/png:https://www.bieville-beuville.fr/wp-content/uploads/2025/08/Nouveaux-habitants-.png
END:VEVENT
END:VCALENDAR