BEGIN:VCALENDAR
VERSION:2.0
PRODID:-// - ECPv6.15.20//NONSGML v1.0//EN
CALSCALE:GREGORIAN
METHOD:PUBLISH
X-ORIGINAL-URL:https://www.bieville-beuville.fr
X-WR-CALDESC:Évènements pour 
REFRESH-INTERVAL;VALUE=DURATION:PT1H
X-Robots-Tag:noindex
X-PUBLISHED-TTL:PT1H
BEGIN:VTIMEZONE
TZID:Europe/Paris
BEGIN:DAYLIGHT
TZOFFSETFROM:+0100
TZOFFSETTO:+0200
TZNAME:CEST
DTSTART:20240331T010000
END:DAYLIGHT
BEGIN:STANDARD
TZOFFSETFROM:+0200
TZOFFSETTO:+0100
TZNAME:CET
DTSTART:20241027T010000
END:STANDARD
BEGIN:DAYLIGHT
TZOFFSETFROM:+0100
TZOFFSETTO:+0200
TZNAME:CEST
DTSTART:20250330T010000
END:DAYLIGHT
BEGIN:STANDARD
TZOFFSETFROM:+0200
TZOFFSETTO:+0100
TZNAME:CET
DTSTART:20251026T010000
END:STANDARD
BEGIN:DAYLIGHT
TZOFFSETFROM:+0100
TZOFFSETTO:+0200
TZNAME:CEST
DTSTART:20260329T010000
END:DAYLIGHT
BEGIN:STANDARD
TZOFFSETFROM:+0200
TZOFFSETTO:+0100
TZNAME:CET
DTSTART:20261025T010000
END:STANDARD
END:VTIMEZONE
BEGIN:VEVENT
DTSTART;VALUE=DATE:20250615
DTEND;VALUE=DATE:20250616
DTSTAMP:20260424T001042
CREATED:20250612T133705Z
LAST-MODIFIED:20250612T133755Z
UID:12871-1749945600-1750031999@www.bieville-beuville.fr
SUMMARY:38ème édition du Marathon de la Liberté
DESCRIPTION:Les coureurs traverseront notre commune dimanche 15 juin.\nCi-joint le parcours avec\, matérialisées en rouge\, les barrières condamnant la circulation de 8 h 30 à 13 h\, en jaune\, le circuit emprunté par les coureurs du marathon et en vert\, celui emprunté par les coureurs du semi-marathon. Nous vous recommandons de prendre vos précautions en stationnant un véhicule hors des voies réservées si vous souhaitez circuler durant cette plage horaire.
URL:https://www.bieville-beuville.fr/event/38eme-edition-du-marathon-de-la-liberte/
ATTACH;FMTTYPE=image/jpeg:https://www.bieville-beuville.fr/wp-content/uploads/2025/06/pexels-photo-2526878-2526878-scaled.jpg
END:VEVENT
END:VCALENDAR